BEGIN:VCALENDAR
VERSION:2.0
PRODID:-//Rainbow Express Preschool - ECPv6.15.15//NONSGML v1.0//EN
CALSCALE:GREGORIAN
METHOD:PUBLISH
X-WR-CALNAME:Rainbow Express Preschool
X-ORIGINAL-URL:https://rainbowexpress.org
X-WR-CALDESC:Events for Rainbow Express Preschool
REFRESH-INTERVAL;VALUE=DURATION:PT1H
X-Robots-Tag:noindex
X-PUBLISHED-TTL:PT1H
BEGIN:VTIMEZONE
TZID:America/New_York
BEGIN:DAYLIGHT
TZOFFSETFROM:-0500
TZOFFSETTO:-0400
TZNAME:EDT
DTSTART:20240310T070000
END:DAYLIGHT
BEGIN:STANDARD
TZOFFSETFROM:-0400
TZOFFSETTO:-0500
TZNAME:EST
DTSTART:20241103T060000
END:STANDARD
BEGIN:DAYLIGHT
TZOFFSETFROM:-0500
TZOFFSETTO:-0400
TZNAME:EDT
DTSTART:20250309T070000
END:DAYLIGHT
BEGIN:STANDARD
TZOFFSETFROM:-0400
TZOFFSETTO:-0500
TZNAME:EST
DTSTART:20251102T060000
END:STANDARD
BEGIN:DAYLIGHT
TZOFFSETFROM:-0500
TZOFFSETTO:-0400
TZNAME:EDT
DTSTART:20260308T070000
END:DAYLIGHT
BEGIN:STANDARD
TZOFFSETFROM:-0400
TZOFFSETTO:-0500
TZNAME:EST
DTSTART:20261101T060000
END:STANDARD
BEGIN:DAYLIGHT
TZOFFSETFROM:-0500
TZOFFSETTO:-0400
TZNAME:EDT
DTSTART:20270314T070000
END:DAYLIGHT
BEGIN:STANDARD
TZOFFSETFROM:-0400
TZOFFSETTO:-0500
TZNAME:EST
DTSTART:20271107T060000
END:STANDARD
END:VTIMEZONE
BEGIN:VEVENT
DTSTART;VALUE=DATE:20260615
DTEND;VALUE=DATE:20260616
DTSTAMP:20260423T063511
CREATED:20260130T221353Z
LAST-MODIFIED:20260130T221408Z
UID:245-1781481600-1781567999@rainbowexpress.org
SUMMARY:Summer Program & ATRC Summer Camp Starts
DESCRIPTION:
URL:https://rainbowexpress.org/event/summer-program-atrc-summer-camp-starts/
END:VEVENT
BEGIN:VEVENT
DTSTART;TZID=America/New_York:20260605T190000
DTEND;TZID=America/New_York:20260605T190000
DTSTAMP:20260423T063511
CREATED:20260130T221054Z
LAST-MODIFIED:20260130T221204Z
UID:244-1780686000-1780686000@rainbowexpress.org
SUMMARY:End of the Year Celebration
DESCRIPTION:
URL:https://rainbowexpress.org/event/end-of-the-year-celebration/
CATEGORIES:School Event
END:VEVENT
BEGIN:VEVENT
DTSTART;VALUE=DATE:20260525
DTEND;VALUE=DATE:20260526
DTSTAMP:20260423T063511
CREATED:20260116T181602Z
LAST-MODIFIED:20260130T220755Z
UID:225-1779667200-1779753599@rainbowexpress.org
SUMMARY:Memorial Day
DESCRIPTION:School is Closed (Tuition Collected)
URL:https://rainbowexpress.org/event/memorial-day/
CATEGORIES:Holiday
END:VEVENT
BEGIN:VEVENT
DTSTART;TZID=America/New_York:20260520T113000
DTEND;TZID=America/New_York:20260520T123000
DTSTAMP:20260423T063511
CREATED:20260116T181411Z
LAST-MODIFIED:20260320T103936Z
UID:224-1779276600-1779280200@rainbowexpress.org
SUMMARY:All School Family picnic
DESCRIPTION:
URL:https://rainbowexpress.org/event/all-school-family-picnic/
CATEGORIES:School Event
END:VEVENT
BEGIN:VEVENT
DTSTART;VALUE=DATE:20260504
DTEND;VALUE=DATE:20260509
DTSTAMP:20260423T063511
CREATED:20260116T181152Z
LAST-MODIFIED:20260116T181152Z
UID:223-1777852800-1778284799@rainbowexpress.org
SUMMARY:Teacher Appreciation Week
DESCRIPTION:School will close at 12:00 PM for in-service training.
URL:https://rainbowexpress.org/event/teacher-appreciation-week/
CATEGORIES:Holiday
END:VEVENT
BEGIN:VEVENT
DTSTART;VALUE=DATE:20260503
DTEND;VALUE=DATE:20260504
DTSTAMP:20260423T063511
CREATED:20260116T181038Z
LAST-MODIFIED:20260317T104319Z
UID:222-1777766400-1777852799@rainbowexpress.org
SUMMARY:GMC/REP Celebration Sunday
DESCRIPTION:
URL:https://rainbowexpress.org/event/gmc-rep-celebration-sunday/
CATEGORIES:School Event
END:VEVENT
BEGIN:VEVENT
DTSTART;TZID=America/New_York:20260502T110000
DTEND;TZID=America/New_York:20260502T150000
DTSTAMP:20260423T063511
CREATED:20260317T104733Z
LAST-MODIFIED:20260317T104737Z
UID:311-1777719600-1777734000@rainbowexpress.org
SUMMARY:Grace Mennonite Block Party
DESCRIPTION:
URL:https://rainbowexpress.org/event/grace-mennonite-block-party/
END:VEVENT
BEGIN:VEVENT
DTSTART;VALUE=DATE:20260408
DTEND;VALUE=DATE:20260409
DTSTAMP:20260423T063511
CREATED:20260116T180943Z
LAST-MODIFIED:20260116T180943Z
UID:221-1775606400-1775692799@rainbowexpress.org
SUMMARY:Children's Concert
DESCRIPTION:
URL:https://rainbowexpress.org/event/childrens-concert/
CATEGORIES:School Event
END:VEVENT
BEGIN:VEVENT
DTSTART;VALUE=DATE:20260406
DTEND;VALUE=DATE:20260411
DTSTAMP:20260423T063511
CREATED:20260116T180840Z
LAST-MODIFIED:20260116T180840Z
UID:220-1775433600-1775865599@rainbowexpress.org
SUMMARY:Week of the Young Child  
DESCRIPTION:
URL:https://rainbowexpress.org/event/week-of-the-young-child/
CATEGORIES:Holiday
END:VEVENT
BEGIN:VEVENT
DTSTART;VALUE=DATE:20260405
DTEND;VALUE=DATE:20260406
DTSTAMP:20260423T063511
CREATED:20260116T180456Z
LAST-MODIFIED:20260116T180655Z
UID:219-1775347200-1775433599@rainbowexpress.org
SUMMARY:Easter Sunday
DESCRIPTION:
URL:https://rainbowexpress.org/event/easter-sunday/
CATEGORIES:Holiday
END:VEVENT
BEGIN:VEVENT
DTSTART;VALUE=DATE:20260403
DTEND;VALUE=DATE:20260404
DTSTAMP:20260423T063511
CREATED:20260116T180125Z
LAST-MODIFIED:20260116T180717Z
UID:218-1775174400-1775260799@rainbowexpress.org
SUMMARY:Good Friday
DESCRIPTION:School is Closed
URL:https://rainbowexpress.org/event/good-friday/
CATEGORIES:Holiday
END:VEVENT
BEGIN:VEVENT
DTSTART;VALUE=DATE:20260318
DTEND;VALUE=DATE:20260319
DTSTAMP:20260423T063511
CREATED:20260116T175958Z
LAST-MODIFIED:20260116T180644Z
UID:217-1773792000-1773878399@rainbowexpress.org
SUMMARY:Breakfast with a Buddy
DESCRIPTION:
URL:https://rainbowexpress.org/event/breakfast-with-a-buddy/
CATEGORIES:School Event
END:VEVENT
BEGIN:VEVENT
DTSTART;VALUE=DATE:20260216
DTEND;VALUE=DATE:20260217
DTSTAMP:20260423T063511
CREATED:20260116T175918Z
LAST-MODIFIED:20260116T191102Z
UID:216-1771200000-1771286399@rainbowexpress.org
SUMMARY:President's Day
DESCRIPTION:In-Service – School is Closed 
URL:https://rainbowexpress.org/event/presidents-day/
CATEGORIES:Holiday
END:VEVENT
BEGIN:VEVENT
DTSTART;VALUE=DATE:20251127
DTEND;VALUE=DATE:20251128
DTSTAMP:20260423T063511
CREATED:20251110T183027Z
LAST-MODIFIED:20260116T180714Z
UID:73-1764201600-1764287999@rainbowexpress.org
SUMMARY:Thanksgiving
DESCRIPTION:School is Closed
URL:https://rainbowexpress.org/event/thanksgiving/
CATEGORIES:Holiday
END:VEVENT
END:VCALENDAR